BEGIN:VCALENDAR
VERSION:2.0
PRODID:-//Easton Courier - ECPv6.15.17.1//NONSGML v1.0//EN
CALSCALE:GREGORIAN
METHOD:PUBLISH
X-WR-CALNAME:Easton Courier
X-ORIGINAL-URL:https://eastoncourier.news
X-WR-CALDESC:Events for Easton Courier
REFRESH-INTERVAL;VALUE=DURATION:PT1H
X-Robots-Tag:noindex
X-PUBLISHED-TTL:PT1H
BEGIN:VTIMEZONE
TZID:America/New_York
BEGIN:DAYLIGHT
TZOFFSETFROM:-0500
TZOFFSETTO:-0400
TZNAME:EDT
DTSTART:20250309T070000
END:DAYLIGHT
BEGIN:STANDARD
TZOFFSETFROM:-0400
TZOFFSETTO:-0500
TZNAME:EST
DTSTART:20251102T060000
END:STANDARD
BEGIN:DAYLIGHT
TZOFFSETFROM:-0500
TZOFFSETTO:-0400
TZNAME:EDT
DTSTART:20260308T070000
END:DAYLIGHT
BEGIN:STANDARD
TZOFFSETFROM:-0400
TZOFFSETTO:-0500
TZNAME:EST
DTSTART:20261101T060000
END:STANDARD
BEGIN:DAYLIGHT
TZOFFSETFROM:-0500
TZOFFSETTO:-0400
TZNAME:EDT
DTSTART:20270314T070000
END:DAYLIGHT
BEGIN:STANDARD
TZOFFSETFROM:-0400
TZOFFSETTO:-0500
TZNAME:EST
DTSTART:20271107T060000
END:STANDARD
END:VTIMEZONE
BEGIN:VEVENT
DTSTART;TZID=America/New_York:20260405T100000
DTEND;TZID=America/New_York:20260405T110000
DTSTAMP:20260424T082429
CREATED:20260401T120141Z
LAST-MODIFIED:20260401T120141Z
UID:140613-1775383200-1775386800@eastoncourier.news
SUMMARY:Easter Services at Jesse Lee United Methodist Church\, Easton
DESCRIPTION:Join Jesse Lee United Methodist Church of Easton members and friends for a celebration of Easter on Sunday April 5th at 10 a.m. Featured will be the choir performing a Cantata\, “Who Is This King?” with readings by Pastor John Esposito and Tammy Esposito. The Cantata is lead by church organist Joe Swindon as well as Easter hymns for all to sing. All are invited to attend. \nShare this:\n				Share on Facebook (Opens in new window)\n				Facebook\n			\n				Share on X (Opens in new window)\n				X\n			\n				Share on LinkedIn (Opens in new window)\n				LinkedIn\n			\n				Share on Reddit (Opens in new window)\n				Reddit\n			\n				Email a link to a friend (Opens in new window)\n				Email\n			\n				Share on Pinterest (Opens in new window)\n				Pinterest\n			Like this:Like Loading...
URL:https://eastoncourier.news/event/easter-services-at-jesse-lee-united-methodist-church-easton/
LOCATION:Jesse Lee United Methodist Church\, 25 Flat Rock Rd\, Easton\, 06612
ATTACH;FMTTYPE=image/png:https://eastoncourier.news/wp-content/uploads/Screenshot-2026-03-11-202041.png
END:VEVENT
BEGIN:VEVENT
DTSTART;TZID=America/New_York:20260406T080000
DTEND;TZID=America/New_York:20260406T170000
DTSTAMP:20260424T082429
CREATED:20260406T222446Z
LAST-MODIFIED:20260406T222446Z
UID:140794-1775462400-1775494800@eastoncourier.news
SUMMARY:Financial Literacy
DESCRIPTION:Join us for a financial wellness program presented by Carol Edwards-Prescott\, Registered Financial Representative with Primerica/PFS Investments. This program is designed to educate families on the core principles of money\, specifically how to protect income\, eliminate debt\, build savings and plan for long term financial security. \nShare this:\n				Share on Facebook (Opens in new window)\n				Facebook\n			\n				Share on X (Opens in new window)\n				X\n			\n				Share on LinkedIn (Opens in new window)\n				LinkedIn\n			\n				Share on Reddit (Opens in new window)\n				Reddit\n			\n				Email a link to a friend (Opens in new window)\n				Email\n			\n				Share on Pinterest (Opens in new window)\n				Pinterest\n			Like this:Like Loading...
URL:https://eastoncourier.news/event/financial-literacy/
LOCATION:Easton Public Library Communiy Room\, 691 Morehouse Rd.\, Easton\, CT\, 06612\, United States
ORGANIZER;CN="Easton Public Library":MAILTO:eplnews@eastonlibrary.org
END:VEVENT
BEGIN:VEVENT
DTSTART;TZID=America/New_York:20260406T153000
DTEND;TZID=America/New_York:20260406T164500
DTSTAMP:20260424T082429
CREATED:20260406T222429Z
LAST-MODIFIED:20260406T222429Z
UID:140771-1775489400-1775493900@eastoncourier.news
SUMMARY:Senior Education Seminar - Learn How to Stay Independent at Home
DESCRIPTION:Presented by Assisted Living Home Care Services\, this program is for seniors and their family members.\nRegistered Nurse and Certified Senior Advisor Julie Cruz will focus a one-hour discussion on practical\, real-world guidance\, covering a range of topics\, including:\n+ Five signs a loved one might need home-care services\n+ Assessing the best care option for your elderly relative: home care vs. assisted living community\n+ How to pay for in-home senior care services in Connecticut\n+ Understanding Connecticut’s Adult Family Living/Foster Caregiver program: a potential lifeline for families\n+ Common myths about medical and nonmedical home care (and what’s actually true)\n+ Facts of financial insecurity later in life – how to use the Elder Index\, a cost-of-living measure designed specifically for older adults\n+ Exploring and accessing benefits for veterans and their families during their golden years\nRegistration is recommended \nShare this:\n				Share on Facebook (Opens in new window)\n				Facebook\n			\n				Share on X (Opens in new window)\n				X\n			\n				Share on LinkedIn (Opens in new window)\n				LinkedIn\n			\n				Share on Reddit (Opens in new window)\n				Reddit\n			\n				Email a link to a friend (Opens in new window)\n				Email\n			\n				Share on Pinterest (Opens in new window)\n				Pinterest\n			Like this:Like Loading...
URL:https://eastoncourier.news/event/senior-education-seminar-learn-how-to-stay-independent-at-home/
LOCATION:Easton Public Library Communiy Room\, 691 Morehouse Rd.\, Easton\, CT\, 06612\, United States
ORGANIZER;CN="Easton Public Library":MAILTO:eplnews@eastonlibrary.org
END:VEVENT
BEGIN:VEVENT
DTSTART;TZID=America/New_York:20260406T180000
DTEND;TZID=America/New_York:20260406T193000
DTSTAMP:20260424T082429
CREATED:20260406T222456Z
LAST-MODIFIED:20260406T222456Z
UID:140776-1775498400-1775503800@eastoncourier.news
SUMMARY:SCORE Workshop: Start Your Business Here – An Action Series to Take Your Idea to Business Launch
DESCRIPTION:(Session 3 of 5)\nWhat to expect from Starting a Business and Review of KeyT echnologies for a Startup Business\nFor details and registration\, go to https://www.score.org/westernconnecticut/event/start-your-business-here-forming-and-launching-a-business-and-key\nSponsored by SCORE. \nShare this:\n				Share on Facebook (Opens in new window)\n				Facebook\n			\n				Share on X (Opens in new window)\n				X\n			\n				Share on LinkedIn (Opens in new window)\n				LinkedIn\n			\n				Share on Reddit (Opens in new window)\n				Reddit\n			\n				Email a link to a friend (Opens in new window)\n				Email\n			\n				Share on Pinterest (Opens in new window)\n				Pinterest\n			Like this:Like Loading...
URL:https://eastoncourier.news/event/score-workshop-start-your-business-here-an-action-series-to-take-your-idea-to-business-launch/
LOCATION:Easton Public Library Communiy Room\, 691 Morehouse Rd.\, Easton\, CT\, 06612\, United States
END:VEVENT
BEGIN:VEVENT
DTSTART;TZID=America/New_York:20260409T103000
DTEND;TZID=America/New_York:20260409T234500
DTSTAMP:20260424T082429
CREATED:20260406T222442Z
LAST-MODIFIED:20260406T222442Z
UID:140788-1775730600-1775778300@eastoncourier.news
SUMMARY:Year of Wonders Book Club
DESCRIPTION:Join us each month for a lively\, informal discussion of historical fiction.\nThis month’s book is “Madame Fourcade’s Secret War: The Daring Young Women Who Led France’s Largest Spy Network Against Hitler” by Lynne Olson.\nCopies of the book are available at the Circulation Desk. New members are always welcome! \nShare this:\n				Share on Facebook (Opens in new window)\n				Facebook\n			\n				Share on X (Opens in new window)\n				X\n			\n				Share on LinkedIn (Opens in new window)\n				LinkedIn\n			\n				Share on Reddit (Opens in new window)\n				Reddit\n			\n				Email a link to a friend (Opens in new window)\n				Email\n			\n				Share on Pinterest (Opens in new window)\n				Pinterest\n			Like this:Like Loading...
URL:https://eastoncourier.news/event/year-of-wonders-book-club-2/
LOCATION:Easton Public Library\, 691 Morehouse Road\, Easton\, CT\, 06612\, United States
ORGANIZER;CN="Easton Public Library":MAILTO:eplnews@eastonlibrary.org
END:VEVENT
BEGIN:VEVENT
DTSTART;TZID=America/New_York:20260409T110000
DTEND;TZID=America/New_York:20260409T121500
DTSTAMP:20260424T082429
CREATED:20260406T222425Z
LAST-MODIFIED:20260406T222425Z
UID:140767-1775732400-1775736900@eastoncourier.news
SUMMARY:Tech 101
DESCRIPTION:Join us and get your computer\, smartphone\, tablet\, and social media questions answered! There’s no such thing as a stupid question!\nPlease bring your device(s) with you. \nShare this:\n				Share on Facebook (Opens in new window)\n				Facebook\n			\n				Share on X (Opens in new window)\n				X\n			\n				Share on LinkedIn (Opens in new window)\n				LinkedIn\n			\n				Share on Reddit (Opens in new window)\n				Reddit\n			\n				Email a link to a friend (Opens in new window)\n				Email\n			\n				Share on Pinterest (Opens in new window)\n				Pinterest\n			Like this:Like Loading...
URL:https://eastoncourier.news/event/tech-101/
LOCATION:Easton Public Library Communiy Room\, 691 Morehouse Rd.\, Easton\, CT\, 06612\, United States
ORGANIZER;CN="Easton Public Library":MAILTO:eplnews@eastonlibrary.org
END:VEVENT
BEGIN:VEVENT
DTSTART;TZID=America/New_York:20260416T163000
DTEND;TZID=America/New_York:20260416T173000
DTSTAMP:20260424T082429
CREATED:20260406T222437Z
LAST-MODIFIED:20260406T222437Z
UID:140782-1776357000-1776360600@eastoncourier.news
SUMMARY:Craft Crew Earth Day Craft (Gr. K-5)
DESCRIPTION:Celebrate Earth Day with your very own Flower Box! We’ll supply all the materials you’ll need to make this fun  springtime craft!\nThese programs are designed for children and accompanying adults. Please plan to attend and be engaged with your child(ren). \nShare this:\n				Share on Facebook (Opens in new window)\n				Facebook\n			\n				Share on X (Opens in new window)\n				X\n			\n				Share on LinkedIn (Opens in new window)\n				LinkedIn\n			\n				Share on Reddit (Opens in new window)\n				Reddit\n			\n				Email a link to a friend (Opens in new window)\n				Email\n			\n				Share on Pinterest (Opens in new window)\n				Pinterest\n			Like this:Like Loading...
URL:https://eastoncourier.news/event/craft-crew-earth-day-craft-gr-k-5/
LOCATION:Easton Public Library\, 691 Morehouse Road\, Easton\, CT\, 06612\, United States
ORGANIZER;CN="Easton Public Library":MAILTO:eplnews@eastonlibrary.org
END:VEVENT
BEGIN:VEVENT
DTSTART;TZID=America/New_York:20260426T150000
DTEND;TZID=America/New_York:20260426T170000
DTSTAMP:20260424T082429
CREATED:20260406T222415Z
LAST-MODIFIED:20260406T222415Z
UID:140675-1777215600-1777222800@eastoncourier.news
SUMMARY:Cathy Alfandre’s talk @ Greiser’s 4/26/26  @ 3:00pm
DESCRIPTION:Cathy talks about her book \nShare this:\n				Share on Facebook (Opens in new window)\n				Facebook\n			\n				Share on X (Opens in new window)\n				X\n			\n				Share on LinkedIn (Opens in new window)\n				LinkedIn\n			\n				Share on Reddit (Opens in new window)\n				Reddit\n			\n				Email a link to a friend (Opens in new window)\n				Email\n			\n				Share on Pinterest (Opens in new window)\n				Pinterest\n			Like this:Like Loading...
URL:https://eastoncourier.news/event/cathy-alfandres-talk-greisers-4-26-26-300pm/
END:VEVENT
BEGIN:VEVENT
DTSTART;TZID=America/New_York:20260426T153000
DTEND;TZID=America/New_York:20260426T170000
DTSTAMP:20260424T082429
CREATED:20260309T194904Z
LAST-MODIFIED:20260309T194904Z
UID:139877-1777217400-1777222800@eastoncourier.news
SUMMARY:A Conversation with Easton Author and Career Coach Cathy Alfandre
DESCRIPTION:Greiser’s is delighted to host a book talk with Easton author Cathy Alfandre on Sunday\, April 26 at 3:30 PM. In her 20 years as a career coach\, Cathy Alfandre has heard a lot of bad boss stories. If you’re suffering under one\, you’re going to want to join the conversation!\nA longtime Easton resident who holds a joint MBA/Master of Industrial Relations degree from Cornell University and an undergraduate degree from Yale\, Cathy Alfandre is the author of a new guide for dealing with what she calls a “malignant manager” — including strategies to cope\, rebuild your confidence\, and navigate a career transition.\nHer book identifies seven types of these bad bosses and provides a series of actionable ideas to survive them and move on.\nBeyond shining a spotlight on the problem\, Alfandre says she provides “a wide array of practical strategies to help you cope\, regain confidence\, and re-establish your well-being\, even if you can’t or don’t want to leave your job right away. “\nYou may benefit from this book if:\nYou currently have a malignant manager – or suspect you do – and want specific strategies to break free.\nYou know someone who’s suffering at work because of their manager\, and you want to provide fresh ideas\, strategies\, and support.\nYou’re a coach or therapist working with someone facing a malignant manager.\nUltimately\, Alfandre says her purpose is to help readers (and those they love) feel seen and heard and to renew a sense of hope\, confidence\, and strength on the job. “We all deserve the opportunity to have fulfilling work lives and to use our skills and talents to create real impact\,” she says. “Life is too short to spend precious hours suffering at work.”\nJoin us to meet and hear from Cathy Alfandre at Greiser’s\, 3:30 PM on Sunday\, April 26. Please register in advance. Ticket price of $18 includes a signed book. Seating-only tickets are $9. \nShare this:\n				Share on Facebook (Opens in new window)\n				Facebook\n			\n				Share on X (Opens in new window)\n				X\n			\n				Share on LinkedIn (Opens in new window)\n				LinkedIn\n			\n				Share on Reddit (Opens in new window)\n				Reddit\n			\n				Email a link to a friend (Opens in new window)\n				Email\n			\n				Share on Pinterest (Opens in new window)\n				Pinterest\n			Like this:Like Loading...
URL:https://eastoncourier.news/event/a-conversation-with-easton-author-and-career-coach-cathy-alfandre/
LOCATION:Greiser’s Coffee & Market\, 299 Center Road\, Easton\, CT
ORGANIZER;CN="Greiser's Coffee &amp%3B Market":MAILTO:info@greisers.com
END:VEVENT
BEGIN:VEVENT
DTSTART;TZID=America/New_York:20260430T190000
DTEND;TZID=America/New_York:20260430T200000
DTSTAMP:20260424T082429
CREATED:20260401T120204Z
LAST-MODIFIED:20260401T120204Z
UID:140521-1777575600-1777579200@eastoncourier.news
SUMMARY:Presentation by Keith Stokes\, Rhode Island Historian Laureate
DESCRIPTION:Press Release – March 28\, 2026 – Easton\, CT \nIn celebration of our nation’s 250th anniversary\, the Easton CT Town Cemetery Committee presents Mr. Keith Stokes\, Rhode Island’s Historian Laureate\, to speak about “Creative Survival: African Heritage Enslavement & Freedom in Early New England” Thursday April 30th\, 2026 at 7:00 pm at the Helen Keller Middle School Cafetorium  at 360 Sport Hill Rd. Easton\, CT. Mr. Stokes is Director of the State of Rhode Island Division of Equity\, Diversity\, and Inclusion. He has also been an Advisor for Rhode Island with the National Trust for Historic Preservation\, served on the Preservation Society for Newport County\, Touro Synagogue Foundation\, Rhode Island Historical Preservation; Heritage Commission Historical Review Board\, Rhode Island Black Heritage Society\, Rhode Island Economic Development Corporation\, Quonset Development Corporation\, Rhode Island Foundation\, and the American Antiquarian Society. He has appeared on national historical programs including C-SPAN\, Fox News Legends & Lies\, and Ted Talk\, was the lead researcher and author of the publication “A Matter of Truth”\, and recently appeared on the PBS series “Black and Jewish in America”. There is a $15 suggested donation. This venue is wheelchair accessible. \nShare this:\n				Share on Facebook (Opens in new window)\n				Facebook\n			\n				Share on X (Opens in new window)\n				X\n			\n				Share on LinkedIn (Opens in new window)\n				LinkedIn\n			\n				Share on Reddit (Opens in new window)\n				Reddit\n			\n				Email a link to a friend (Opens in new window)\n				Email\n			\n				Share on Pinterest (Opens in new window)\n				Pinterest\n			Like this:Like Loading...
URL:https://eastoncourier.news/event/presentation-by-keith-stokes-rhode-island-historian-laureate/
LOCATION:Helen Keller Middle School\, 360 Sport Hill Road\, Easton\, CT
ATTACH;FMTTYPE=image/png:https://eastoncourier.news/wp-content/uploads/keith-Stokes.png
ORGANIZER;CN="Easton Cemetery Committee":MAILTO:eastonctcemetery@yahoo.com
END:VEVENT
BEGIN:VEVENT
DTSTART;TZID=America/New_York:20260430T190000
DTEND;TZID=America/New_York:20260430T200000
DTSTAMP:20260424T082429
CREATED:20260401T120208Z
LAST-MODIFIED:20260401T120208Z
UID:140528-1777575600-1777579200@eastoncourier.news
SUMMARY:Historian Laureate to speak in Easton on April 30th
DESCRIPTION:Press Release – March 28\, 2026 – Easton\, CT \nIn celebration of our nation’s 250th anniversary\, the Easton CT Town Cemetery Committee presents Mr. Keith Stokes\, Rhode Island’s Historian Laureate\, to speak about “Creative Survival: African Heritage Enslavement & Freedom in Early New England” Thursday April 30th\, 2026 at 7:00 pm at the Helen Keller Middle School Cafetorium  at 360 Sport Hill Rd. Easton\, CT. Mr. Stokes is Director of the State of Rhode Island Division of Equity\, Diversity\, and Inclusion. He has also been an Advisor for Rhode Island with the National Trust for Historic Preservation\, served on the Preservation Society for Newport County\, Touro Synagogue Foundation\, Rhode Island Historical Preservation; Heritage Commission Historical Review Board\, Rhode Island Black Heritage Society\, Rhode Island Economic Development Corporation\, Quonset Development Corporation\, Rhode Island Foundation\, and the American Antiquarian Society. He has appeared on national historical programs including C-SPAN\, Fox News Legends & Lies\, and Ted Talk\, was the lead researcher and author of the publication “A Matter of Truth”\, and recently appeared on the PBS series “Black and Jewish in America”. There is a $15 suggested donation. This venue is wheelchair accessible. \nShare this:\n				Share on Facebook (Opens in new window)\n				Facebook\n			\n				Share on X (Opens in new window)\n				X\n			\n				Share on LinkedIn (Opens in new window)\n				LinkedIn\n			\n				Share on Reddit (Opens in new window)\n				Reddit\n			\n				Email a link to a friend (Opens in new window)\n				Email\n			\n				Share on Pinterest (Opens in new window)\n				Pinterest\n			Like this:Like Loading...
URL:https://eastoncourier.news/event/historian-laureate-to-speak-in-easton-on-april-30th/
LOCATION:Helen Keller Middle School\, 360 Sport Hill Road\, Easton\, CT
ATTACH;FMTTYPE=image/png:https://eastoncourier.news/wp-content/uploads/keith-Stokes-1.png
ORGANIZER;CN="Easton Cemetery Committee":MAILTO:eastonctcemetery@yahoo.com
END:VEVENT
BEGIN:VEVENT
DTSTART;TZID=America/New_York:20260502T090000
DTEND;TZID=America/New_York:20260502T133000
DTSTAMP:20260424T082429
CREATED:20260423T134949Z
LAST-MODIFIED:20260423T134949Z
UID:141128-1777712400-1777728600@eastoncourier.news
SUMMARY:19th Annual Westport Weston Co-op Nursery School’s Touch-A-Truck Fundraiser
DESCRIPTION:Fairfield County’s biggest trucks are rolling into Westport for the 19th Annual Co-op Touch-A-Truck fundraiser. On Saturday\, May 2nd from 9:00am to 1:30pm at 50 Imperial Ave\, kids of ALL ages will have the opportunity to get up close\, climb on\, and take photos with vehicles of all shapes and sizes. Look for fire trucks\, police cars\, ambulances\, cranes\, dump trucks\, buses\, big rigs\, and so much more. Join us for a day of fun family friendly activities\, face painting\, food trucks\, and live music! \nIt can get pretty LOUD around here; for guests with sensitivity to noise\, join us for the QUIET HOUR from 9:00am to 9:30am with no sirens or horns. \nAdmission is $35/family.\nTickets can be purchased at https://www.eventbrite.com/e/westport-weston-cooperative-nursery-schools-19th-annual-touch-a-truck-tickets-1631768386169\nAll proceeds benefit the Westport Weston Cooperative Nursery School. To find out more about our school\, visit http://www.westportwestoncoop.org \nShare this:\n				Share on Facebook (Opens in new window)\n				Facebook\n			\n				Share on X (Opens in new window)\n				X\n			\n				Share on LinkedIn (Opens in new window)\n				LinkedIn\n			\n				Share on Reddit (Opens in new window)\n				Reddit\n			\n				Email a link to a friend (Opens in new window)\n				Email\n			\n				Share on Pinterest (Opens in new window)\n				Pinterest\n			Like this:Like Loading...
URL:https://eastoncourier.news/event/19th-annual-westport-weston-co-op-nursery-schools-touch-a-truck-fundraiser/
END:VEVENT
BEGIN:VEVENT
DTSTART;TZID=America/New_York:20260502T100000
DTEND;TZID=America/New_York:20260502T140000
DTSTAMP:20260424T082429
CREATED:20260423T134933Z
LAST-MODIFIED:20260423T134933Z
UID:141255-1777716000-1777730400@eastoncourier.news
SUMMARY:Electronics and Tool Recycling
DESCRIPTION:Electronics & Tools Recycling Event\nSaturday\, May 2\, 10am-2pm\nSSES\, back parking lot\nDrive through behind SSES to drop off your unwanted electronics and tools!\nAccepted items include: computers\, monitors\, printers\, TVs\, VCRs\, DVD players\, stereo equipment\, microwaves\, small appliances\nNot accepted: refrigerators\, dehumidifiers\, A/C units\, smoke detectors\, batteries\, light bulbs\nAlso accepting hand and power tools you no longer need for donation to Nourish Bridgeport.\nQuestions about electronics? Take2recycle.com or 800-209-9322 \nShare this:\n				Share on Facebook (Opens in new window)\n				Facebook\n			\n				Share on X (Opens in new window)\n				X\n			\n				Share on LinkedIn (Opens in new window)\n				LinkedIn\n			\n				Share on Reddit (Opens in new window)\n				Reddit\n			\n				Email a link to a friend (Opens in new window)\n				Email\n			\n				Share on Pinterest (Opens in new window)\n				Pinterest\n			Like this:Like Loading...
URL:https://eastoncourier.news/event/electronics-and-tool-recycling-2/
LOCATION:Samuel Staples Elementary School\, 515 Morehouse Road\, Easton\, 06612
ORGANIZER;CN="Easton Energy &amp%3B Environment Task Force":MAILTO:eastonenergytf@gmail.com
END:VEVENT
BEGIN:VEVENT
DTSTART;TZID=America/New_York:20260503T153000
DTEND;TZID=America/New_York:20260503T170000
DTSTAMP:20260424T082430
CREATED:20260309T194841Z
LAST-MODIFIED:20260309T194841Z
UID:139881-1777822200-1777827600@eastoncourier.news
SUMMARY:An Early Mother's Day Conversation with Easton Author Danielle Sanjenis
DESCRIPTION:Join us at Greiser’s a week before Mother’s Day\, at 3:30pm on Sunday May 3\, for a conversation and reading from “You Can’t Scare Me\, I Have Three Daughters”\nThis new memoir by Danielle Sanjenis is an intimate dive into the evolution of a woman who truly found herself through motherhood\, reinvigoration\, and the courage it takes to stay soft beneath a tough shell.\nTold with wit\, insight\, and vulnerability\, Sanjenis opens the door to her life-painted in pink\, lined with resilience\, and anchored by her unapologetic personality-where parenting is as much a journey as it is an art\, and wisdom blossoms from life’s most challenging moments.\nGrowing up without a clear sense of who she was\, Sanjenis spent her early adulthood questioning her instincts and deferring to others for approval — seeing the world\, but uncertain of her place in it. Her book shares her journey of learning to embrace uncertainty where she once craved control\, as her blooming confidence replaced the once-blurred lines of her identity.\nIt was through her daughters that Sanjenis says she first began to feel seen\, and she found her strength reflected in the mirror of their love. As a mother\, she vowed to raise daughters who know themselves deeply — unafraid to voice their opinions\, lead with conviction\, trust their intuition\, and set boundaries. Women who make bold\, beautiful choices that are entirely their own\, and walk away from what doesn’t serve them — even\, and perhaps most especially\, when it isn’t easy.\nSanjenis calls herself living proof that no matter how put together your life may seem — or even truly be — sometimes things have to fall apart\, or at least shift\, to make room for a kind of growth you never could have imagined. Because as scary as it feels\, life begins at the end of your comfort zone-and only then can you truly find yourself.\nAdulthood\, as Sanjenis has come to learn\, is a never-ending coming-of-age story.\nPlease register in advance. Ticket price of $15 includes a signed copy of the book. Seat-only tickets are $7.\nDanielle Sanjenis is a crystal healer\, certified yoga instructor\, and — first and foremost — a Girl Mom. She has written a series of children’s books inspired by her daughters and created PinkMoonwater gem oils and affirmation cards\, incorporating her devotion to self-care\, guidance\, and empowerment.\nSanjenis divides her time between Easton and New York City with her husband and two beloved dogs as each of her daughters embark on their own journey. She surrounds herself with all things French. \nShare this:\n				Share on Facebook (Opens in new window)\n				Facebook\n			\n				Share on X (Opens in new window)\n				X\n			\n				Share on LinkedIn (Opens in new window)\n				LinkedIn\n			\n				Share on Reddit (Opens in new window)\n				Reddit\n			\n				Email a link to a friend (Opens in new window)\n				Email\n			\n				Share on Pinterest (Opens in new window)\n				Pinterest\n			Like this:Like Loading...
URL:https://eastoncourier.news/event/an-early-mothers-day-conversation-with-easton-author-danielle-sanjenis/
LOCATION:Greiser’s Coffee & Market\, 299 Center Road\, Easton\, CT
ORGANIZER;CN="Greiser's Coffee &amp%3B Market":MAILTO:info@greisers.com
END:VEVENT
BEGIN:VEVENT
DTSTART;TZID=America/New_York:20260516T090000
DTEND;TZID=America/New_York:20260516T130000
DTSTAMP:20260424T082430
CREATED:20260416T135546Z
LAST-MODIFIED:20260416T135546Z
UID:141101-1778922000-1778936400@eastoncourier.news
SUMMARY:Plant Sale by Greens Farms Garden Club
DESCRIPTION:Locally grown perennials\, annuals and speciality table! Bartlett Trees will be giving free seedlings. \nShare this:\n				Share on Facebook (Opens in new window)\n				Facebook\n			\n				Share on X (Opens in new window)\n				X\n			\n				Share on LinkedIn (Opens in new window)\n				LinkedIn\n			\n				Share on Reddit (Opens in new window)\n				Reddit\n			\n				Email a link to a friend (Opens in new window)\n				Email\n			\n				Share on Pinterest (Opens in new window)\n				Pinterest\n			Like this:Like Loading...
URL:https://eastoncourier.news/event/plant-sale-by-greens-farms-garden-club/
END:VEVENT
BEGIN:VEVENT
DTSTART;TZID=America/New_York:20260603T180000
DTEND;TZID=America/New_York:20260603T213000
DTSTAMP:20260424T082430
CREATED:20260209T171712Z
LAST-MODIFIED:20260209T171712Z
UID:139029-1780509600-1780522200@eastoncourier.news
SUMMARY:The 20th Taste of Westport - An American Classic
DESCRIPTION:CLASP Presents The 20th Taste of Westport – American Classic\nWednesday\, June 3\, 2026\n6:00 PM – 9:30 PM\nFairfield County Hunt Club\nNow celebrating its 20th Annual year\, Taste of Westport marks an exciting new chapter as it is hosted for the first time at the iconic Fairfield County Hunt Club. Celebrate two decades of Westport’s most anticipated culinary event\, inspired by timeless equestrian style—where heritage style\, effortless sophistication\, and enduring tradition take center stage. The evening features invitation-only restaurants\, curated tastings\, signature cocktails\, and a luxury silent auction—all in support of CLASP\, a Westport-based nonprofit providing homes and essential services to adults with autism and developmental disabilities.\n100% of proceeds benefit CLASP. This event sells out annually.\nTickets on sale April 9 at TasteofWestport.com. \nShare this:\n				Share on Facebook (Opens in new window)\n				Facebook\n			\n				Share on X (Opens in new window)\n				X\n			\n				Share on LinkedIn (Opens in new window)\n				LinkedIn\n			\n				Share on Reddit (Opens in new window)\n				Reddit\n			\n				Email a link to a friend (Opens in new window)\n				Email\n			\n				Share on Pinterest (Opens in new window)\n				Pinterest\n			Like this:Like Loading...
URL:https://eastoncourier.news/event/the-20th-taste-of-westport-an-american-classic/
LOCATION:Fairfield County Hunt Club\, 174 Long Lots Road\, Westport\, 06880
ATTACH;FMTTYPE=image/jpeg:https://eastoncourier.news/wp-content/uploads/TOW26-Banner-hi-res.jpg
ORGANIZER;CN="CLASP Homes%2C Inc.":MAILTO:ktini@clasphomes.org
END:VEVENT
END:VCALENDAR